BEGIN:VCALENDAR
VERSION:2.0
PRODID:-//BierNetwerk - voor de bierliefhebber - ECPv6.0.6.2//NONSGML v1.0//EN
CALSCALE:GREGORIAN
METHOD:PUBLISH
X-ORIGINAL-URL:http://biernetwerk.nl
X-WR-CALDESC:Events for BierNetwerk - voor de bierliefhebber
REFRESH-INTERVAL;VALUE=DURATION:PT1H
X-Robots-Tag:noindex
X-PUBLISHED-TTL:PT1H
BEGIN:VTIMEZONE
TZID:Europe/Amsterdam
BEGIN:DAYLIGHT
TZOFFSETFROM:+0100
TZOFFSETTO:+0200
TZNAME:CEST
DTSTART:20140330T010000
END:DAYLIGHT
BEGIN:STANDARD
TZOFFSETFROM:+0200
TZOFFSETTO:+0100
TZNAME:CET
DTSTART:20141026T010000
END:STANDARD
END:VTIMEZONE
BEGIN:VEVENT
DTSTART;VALUE=DATE:20141101
DTEND;VALUE=DATE:20141102
DTSTAMP:20260423T151849
CREATED:20140722T075000Z
LAST-MODIFIED:20140722T075000Z
UID:2726-1414800000-1414886399@biernetwerk.nl
SUMMARY:6e Noordelijk SpeciaalBierfestival
DESCRIPTION:Op 1 november 2014 zal voor de zesde keer het Noordelijk SpeciaalBierfestival plaatsvinden en weer in de vertrouwde locatie Grand-café “Het Heerenhuis”\, Spilsluizen 9 te Groningen. Dit festival kenmerkt zich op de punten: kleinschalig\, kwaliteit\, gezellig en informatief. \nMeer info volgt.
URL:http://biernetwerk.nl/event/6e-noordelijk-speciaalbierfestival/
LOCATION:Grand-café “Het Heerenhuis”\, Spilsluizen 9\, Groningen\, Nederland
CATEGORIES:Festival
ATTACH;FMTTYPE=image/gif:http://biernetwerk.nl/wp-content/uploads/2014/07/PINT-logo-NSF2014-2.gif
END:VEVENT
END:VCALENDAR